BEGIN:VCALENDAR
VERSION:2.0
PRODID:-//Library Market//iCal Export//EN
BEGIN:VEVENT
SUMMARY:Songs and More with Ms. Niki and Ms. Ocean!
UID:125032
DTSTAMP:20260420T081500Z
DTSTART:20260716T143000Z
DTEND:20260716T151500Z
LOCATION:357 Buck Road, Quarryville , PA 17566, United States
ROOM: QVL C.X. Carlson Cultural Room
DESCRIPTION:Ages 12 months – 6 years old with a caregiver. Registration 
 is required and space is limited.We welcome Nicole Robinson and Ocean Smit
 h, Family Specialists from CAP Lancaster who will share music and movement
  activities to delight and develop your young child!  
URL:https://calendar.lancasterlibraries.org/event/songs-and-more-toddlers-
 ms-ocean-125032
END:VEVENT
END:VCALENDAR
