BEGIN:VCALENDAR
VERSION:2.0
PRODID:-//Library Market//iCal Export//EN
BEGIN:VEVENT
SUMMARY:Dino Party!
UID:134995
DTSTAMP:20260420T055000Z
DTSTART:20260617T143000Z
DTEND:20260617T153000Z
LOCATION:357 Buck Road, Quarryville , PA 17566, United States
ROOM: QVL C.X. Carlson Cultural Room
DESCRIPTION:Young children ages 2.5-6 with caregivers. Please register par
 ticipating children and list others in the prompt.It’s a dinosaur party!
  We will read a story about dinosaurs, then go through different stations 
 of games and activities to further our learning and imagination. It is sur
 e to be a prehistoric blast.
URL:https://calendar.lancasterlibraries.org/event/srp-parks-program-presch
 ool-tbd-134995
END:VEVENT
END:VCALENDAR
