BEGIN:VCALENDAR
VERSION:2.0
PRODID:-//Library Market//iCal Export//EN
BEGIN:VEVENT
SUMMARY:Nature Journaling Class
UID:148063
DTSTAMP:20260422T041200Z
DTSTART:20260528T220000Z
DTEND:20260528T233000Z
LOCATION:651 Kissel Hill Road, Lititz, PA 17543, United States
ROOM: LTZ Board Room
DESCRIPTION:Join us for a leisurely walk near the library, as we stop occa
 sionally, for guided nature journaling. You will be given a notebook and p
 encil. Dress for walking and the weather.
URL:https://calendar.lancasterlibraries.org/event/teacup-planter-class-148
 063
END:VEVENT
END:VCALENDAR
