BEGIN:VCALENDAR
VERSION:2.0
PRODID:-//Library Market//iCal Export//EN
BEGIN:VEVENT
SUMMARY:Bravura Brass Family Concert
UID:149101
DTSTAMP:20260421T231300Z
DTSTART:20260625T223000Z
DTEND:20260625T233000Z
LOCATION:651 Kissel Hill Road, Lititz, PA 17543, United States
ROOM: LTZ Community Room
DESCRIPTION:Bravura Brass, the Lancaster, Pennsylvania brass quintet known
  for performing interactive and entertaining family programs, will blow th
 eir horns yet again in celebration of Summer Reading at the Lititz Public 
 Library. Their upbeat concert program is designed to usher in this year’
 s summer reading program!
URL:https://calendar.lancasterlibraries.org/event/bravura-brass-family-con
 cert-149101
END:VEVENT
END:VCALENDAR
