BEGIN:VCALENDAR
VERSION:2.0
PRODID:-//Library Market//iCal Export//EN
BEGIN:VEVENT
SUMMARY:Adult Beginners Sign Language Class
UID:150724
DTSTAMP:20260422T005300Z
DTSTART:20260709T220000Z
DTEND:20260709T233000Z
LOCATION:651 Kissel Hill Road, Lititz, PA 17543, United States
ROOM: LTZ Board Room
DESCRIPTION:Come learn Adult American Sign Language. Please note you are 
 registering for all 4 classes. Please bring a notebook and something to w
 rite with. 
URL:https://calendar.lancasterlibraries.org/event/beginners-sign-language-
 class-150724
END:VEVENT
END:VCALENDAR
