BEGIN:VCALENDAR
VERSION:2.0
PRODID:-//Library Market//iCal Export//EN
BEGIN:VEVENT
SUMMARY:Teen Summer Zine
UID:160311
DTSTAMP:20260422T010400Z
DTSTART:20260711T163000Z
DTEND:20260711T180000Z
LOCATION:Ephrata Public Library, 550 South Reading Rd., Ephrata, PA 17522,
  United States
ROOM: EPH Conference Room
DESCRIPTION:The Teen Summer Zine is back for 2026, with a new lineup of me
 ntor authors and artists, new locations and a celebration of the hand-made
  roots of zines! Students will learn from local arts professionals while 
 creating their own hand-made publications that can include comics, fan art
  and fan fiction, poetry, collage and illustrations. All art and writing m
 aterials will be provided, along with snacks! Students may submit their fa
 vorite pieces for publication into a county-wide digital zine that will be
  available for checkout through Libby at the end of the summer. All Lancas
 ter County teens are welcome to participate. Sessions will take place at t
 he following times and locations: June 13, 1pm. Manheim Township Library: 
 Create Comics with graphic novelist Jamar Nicholas; June 27, 12:30pm; Ephr
 ata Public Library: Make a FanZine with Lancaster Zine Fest&#039;s Kim Hol
 land; July 11,12:30pm. Ephrata Public Library: Create Collage Poetry with 
 author and poet Lindsay Bandy; July 25, 1pm. Quarryville Library: Make Zin
 e Art with local artist Ciana Malchione. To register, please visit the app
 ropriate library’s events calendar. Ages 12-19. 
URL:https://calendar.lancasterlibraries.org/event/teen-zine-160311
END:VEVENT
END:VCALENDAR
