BEGIN:VCALENDAR
VERSION:2.0
PRODID:-//Library Market//iCal Export//EN
BEGIN:VEVENT
SUMMARY:Spy Camp
UID:162138
DTSTAMP:20260420T083200Z
DTSTART:20260617T170000Z
DTEND:20260617T183000Z
LOCATION:Ephrata Public Library, 550 South Reading Rd., Ephrata, PA 17522,
  United States
ROOM: EPH Multipurpose Room
DESCRIPTION:We are looking for secret agents! Are you ready to start your
  spy training? Join this three-day camp where you will learn to decode sec
 ret messages, go on a secret spy mission and practice your spy skills! Age
 s 10-18. 
URL:https://calendar.lancasterlibraries.org/event/spy-camp-162138
END:VEVENT
END:VCALENDAR
