BEGIN:VCALENDAR
VERSION:2.0
PRODID:-//Library Market//iCal Export//EN
BEGIN:VEVENT
SUMMARY:Tween Gamers
UID:162422
DTSTAMP:20260420T094600Z
DTSTART:20260716T200000Z
DTEND:20260716T210000Z
LOCATION:Ephrata Public Library, 550 South Reading Rd., Ephrata, PA 17522,
  United States
ROOM: EPH 1/2 Multipurpose Room Projector Side
DESCRIPTION:
URL:https://calendar.lancasterlibraries.org/event/tween-gamers-162422
END:VEVENT
END:VCALENDAR
