BEGIN:VCALENDAR
VERSION:2.0
PRODID:-//Library Market//iCal Export//EN
BEGIN:VEVENT
SUMMARY:Pokémon TCG Club
UID:162427
DTSTAMP:20260420T081500Z
DTSTART:20260709T203000Z
DTEND:20260709T213000Z
LOCATION:Ephrata Public Library, 550 South Reading Rd., Ephrata, PA 17522,
  United States
ROOM: EPH 1/2 Multipurpose Room Projector Side
DESCRIPTION:Join us to play Pokémon TCG! Library supplies are limited so 
 please make sure to bring your cards along if you have them. Ages 10-14. 
URL:https://calendar.lancasterlibraries.org/event/pokemon-tcg-club-162427
END:VEVENT
END:VCALENDAR
