BEGIN:VCALENDAR
VERSION:2.0
PRODID:-//Library Market//iCal Export//EN
BEGIN:VEVENT
SUMMARY:Summer Book Club
UID:162464
DTSTAMP:20260420T081500Z
DTSTART:20260709T170000Z
DTEND:20260709T180000Z
LOCATION:Ephrata Public Library, 550 South Reading Rd., Ephrata, PA 17522,
  United States
ROOM: EPH 1/2 Multipurpose Room Projector Side
DESCRIPTION:Each month we will discuss a new book! This month we will be d
 iscussing “Avatar: The Last Airbender – The Promise Part 1-3” by Gen
 e Luen Yang, Michael Dante DiMartino and Bryan Konietzko.  Be prepared to
  answer some questions about the book and share some of the parts you like
 d and didn’t like. Ages 10-14.
URL:https://calendar.lancasterlibraries.org/event/summer-book-club-162464
END:VEVENT
END:VCALENDAR
