BEGIN:VCALENDAR
VERSION:2.0
PRODID:-//Library Market//iCal Export//EN
BEGIN:VEVENT
SUMMARY:Summer Book Club
UID:162465
DTSTAMP:20260420T083200Z
DTSTART:20260806T170000Z
DTEND:20260806T180000Z
LOCATION:Ephrata Public Library, 550 South Reading Rd., Ephrata, PA 17522,
  United States
ROOM: EPH 1/2 Multipurpose Room Projector Side
DESCRIPTION:Each month we will discuss a new book! This month we will be d
 iscussing “Tamarind and the Star of Ishta” by Jasbinder Bilan.  Be pr
 epared to answer some questions about the book and share some of the parts
  you liked and didn’t like. Ages 10-14. 
URL:https://calendar.lancasterlibraries.org/event/summer-book-club-162465
END:VEVENT
END:VCALENDAR
