BEGIN:VCALENDAR
VERSION:2.0
PRODID:-//Library Market//iCal Export//EN
BEGIN:VEVENT
SUMMARY:Mahjong Club
UID:163871
DTSTAMP:20260422T005300Z
DTSTART:20260707T163000Z
DTEND:20260707T183000Z
LOCATION:Ephrata Public Library, 550 South Reading Rd., Ephrata, PA 17522,
  United States
ROOM: EPH 1/2 Multipurpose Room Projector Side
DESCRIPTION:Matching tiles has never been this much fun! Learn and play Am
 erican Mahjong right here at the Library. All skill levels welcome. Ages 1
 8+.
URL:https://calendar.lancasterlibraries.org/event/mahjong-club-163871
END:VEVENT
END:VCALENDAR
