BEGIN:VCALENDAR
VERSION:2.0
PRODID:-//Library Market//iCal Export//EN
BEGIN:VEVENT
SUMMARY:Pinochle Party
UID:163882
DTSTAMP:20260422T092600Z
DTSTART:20260715T163000Z
DTEND:20260715T190000Z
LOCATION:Ephrata Public Library, 550 South Reading Rd., Ephrata, PA 17522,
  United States
ROOM: EPH 1/2 Multipurpose Room Projector Side
DESCRIPTION:Meld, bid, marriage, trump? You’re speaking our language! Jo
 in us every for an afternoon of pinochle. This program runs until 3 p.m. S
 eniors.
URL:https://calendar.lancasterlibraries.org/event/pinochle-party-163882
END:VEVENT
END:VCALENDAR
