BEGIN:VCALENDAR
VERSION:2.0
PRODID:-//Library Market//iCal Export//EN
BEGIN:VEVENT
SUMMARY:Mahjong Masters
UID:163888
DTSTAMP:20260421T231300Z
DTSTART:20260727T143000Z
DTEND:20260727T163000Z
LOCATION:Ephrata Public Library, 550 South Reading Rd., Ephrata, PA 17522,
  United States
ROOM: EPH 1/2 Multipurpose Room Projector Side
DESCRIPTION:All experienced (playing for at least one year with no help) p
 layers are welcome to join us for fast-paced games of American Mahjong. Ag
 es 18+.
URL:https://calendar.lancasterlibraries.org/event/mahjong-masters-163888
END:VEVENT
END:VCALENDAR
