BEGIN:VCALENDAR
VERSION:2.0
PRODID:-//Library Market//iCal Export//EN
BEGIN:VEVENT
SUMMARY:Read or Die: In-Person Book Discussion
UID:163893
DTSTAMP:20260422T092600Z
DTSTART:20260714T220000Z
DTEND:20260714T230000Z
LOCATION:Ephrata Public Library, 550 South Reading Rd., Ephrata, PA 17522,
  United States
ROOM: EPH 1/2 Multipurpose Room Projector Side
DESCRIPTION:To read is to live! Join us as we discuss “Never Let Me Go
  by Kazuo Ishiguro. Ages 18+.
URL:https://calendar.lancasterlibraries.org/event/read-or-die-person-book-
 discussion-163893
END:VEVENT
END:VCALENDAR
