BEGIN:VCALENDAR
VERSION:2.0
PRODID:-//Library Market//iCal Export//EN
BEGIN:VEVENT
SUMMARY:Teen Gamers Club
UID:164755
DTSTAMP:20260422T010400Z
DTSTART:20260630T193000Z
DTEND:20260630T210000Z
LOCATION:Ephrata Public Library, 550 South Reading Rd., Ephrata, PA 17522,
  United States
ROOM: EPH 1/2 Multipurpose Room Projector Side
DESCRIPTION:Join us for some relaxation and video games on our Nintendo Sw
 itch! Feel free to bring any multiplayer (4 or more players) games you wis
 h to share with the group. Ages 13-18.
URL:https://calendar.lancasterlibraries.org/event/teen-gamers-club-164755
END:VEVENT
END:VCALENDAR
