BEGIN:VCALENDAR
VERSION:2.0
PRODID:-//Library Market//iCal Export//EN
BEGIN:VEVENT
SUMMARY:Whip It Up Cookbook Club
UID:164894
DTSTAMP:20260422T200700Z
DTSTART:20260817T220000Z
DTEND:20260817T230000Z
LOCATION:Ephrata Public Library, 550 South Reading Rd., Ephrata, PA 17522,
  United States
ROOM: EPH 1/2 Multipurpose Room Kitchen Side
DESCRIPTION:Join us as we delve into a cookbook and explore the chef(s), t
 he ingredients, the tastes, the culture, the fun and the camaraderie. Look
  for this month’s cookbook and the sign-up list behind the circulation d
 esk. Ages 18+.
URL:https://calendar.lancasterlibraries.org/event/whip-it-cookbook-club-16
 4894
END:VEVENT
END:VCALENDAR
