BEGIN:VCALENDAR
VERSION:2.0
PRODID:-//Library Market//iCal Export//EN
BEGIN:VEVENT
SUMMARY:Blockheadz Club
UID:165506
DTSTAMP:20260422T124400Z
DTSTART:20260602T214500Z
DTEND:20260602T223000Z
LOCATION:Ephrata Public Library, 550 South Reading Rd., Ephrata, PA 17522,
  United States
ROOM: EPH 1/2 Multipurpose Room Kitchen Side
DESCRIPTION:Build, design and create with Lego® bricks, figures and acces
 sories all supplied by the Library. Participate in monthly building challe
 nges. The theme will be revealed when you arrive at the program. Ages 4-12
URL:https://calendar.lancasterlibraries.org/event/blockheadz-club-165506
END:VEVENT
END:VCALENDAR
