BEGIN:VCALENDAR
VERSION:2.0
PRODID:-//Library Market//iCal Export//EN
BEGIN:VEVENT
SUMMARY:Mini Archaeologists Academy: Discovering Ancient Egypt
UID:165512
DTSTAMP:20260422T041200Z
DTSTART:20260615T180000Z
DTEND:20260615T190000Z
LOCATION:Ephrata Public Library, 550 South Reading Rd., Ephrata, PA 17522,
  United States
ROOM: EPH 1/2 Multipurpose Room Kitchen Side
DESCRIPTION:Step into the role of a young explorer at Mini Archaeologist A
 cademy! In this hands-on Summer Program series, junior archaeologists will
  investigate ancient civilizations, uncover hidden artifacts and learn how
  archaeologists discover clues about the past through fun activities and c
 rafts! In this session, we’ll travel back in time to Ancient Egypt to ex
 plore pyramids, pharaohs and mysterious hieroglyphs. Participants will dig
  for artifacts, decode ancient symbols, create an Egyptian-inspired craft 
 and more, while discovering what life was like along the Nile. Ages 6-9. 
URL:https://calendar.lancasterlibraries.org/event/mini-archaeologists-acad
 emy-discovering-ancient-egypt-165512
END:VEVENT
END:VCALENDAR
