BEGIN:VCALENDAR
VERSION:2.0
PRODID:-//Library Market//iCal Export//EN
BEGIN:VEVENT
SUMMARY:Stories in the Sunshine: Dino Tales
UID:165513
DTSTAMP:20260422T041200Z
DTSTART:20260617T173000Z
DTEND:20260617T181500Z
LOCATION:Ephrata Public Library, 550 South Reading Rd., Ephrata, PA 17522,
  United States
ROOM: EPH Outside
DESCRIPTION:Join Mallory outside on the lawn under the tree for Stories in
  the Sunshine: Dino Tales! We’ll read roaring dinosaur stories, enjoy a 
 dino snack, create a simple prehistoric craft and play a fun dino-themed g
 ame together. Bring a blanket or towel to sit on and get ready for some st
 omping, chomping fun in the sunshine! Ages 5-9. 
URL:https://calendar.lancasterlibraries.org/event/stories-sunshine-dino-ta
 les-165513
END:VEVENT
END:VCALENDAR
