BEGIN:VCALENDAR
VERSION:2.0
PRODID:-//Library Market//iCal Export//EN
BEGIN:VEVENT
SUMMARY:Kpop Demon Hunters Cooking Camp
UID:165515
DTSTAMP:20260422T041200Z
DTSTART:20260618T213000Z
DTEND:20260618T224500Z
LOCATION:Ephrata Public Library, 550 South Reading Rd., Ephrata, PA 17522,
  United States
ROOM: EPH 1/2 Multipurpose Room Kitchen Side
DESCRIPTION:The stage is set and the kitchen is calling! Join us at the Li
 brary for a hands-on cooking adventure inspired by “K-Pop Demon Hunters
 . Kids will create delicious Korean-inspired snacks worthy of a demon-fi
 ghting pop star while learning simple cooking skills and working together 
 like a true team. Mix, assemble, decorate and taste your creation as you p
 ower up for your next mission. We will end with a themed dinner party feat
 uring our treats, music,and decorations! Ages 5-9. 
URL:https://calendar.lancasterlibraries.org/event/kpop-demon-hunters-cooki
 ng-camp-165515
END:VEVENT
END:VCALENDAR
