BEGIN:VCALENDAR
VERSION:2.0
PRODID:-//Library Market//iCal Export//EN
BEGIN:VEVENT
SUMMARY:Games of Luck! For Tweens: Wheel of Destiny
UID:165967
DTSTAMP:20260420T083200Z
DTSTART:20260608T203000Z
DTEND:20260608T213000Z
LOCATION:Ephrata Public Library, 550 South Reading Rd., Ephrata, PA 17522,
  United States
ROOM: EPH 1/2 Multipurpose Room Kitchen Side
DESCRIPTION:Each month we will try a new game that relies on chance! No ma
 tter how good you are at strategy, you still need luck to be on your side 
 in these games. This month we will be playing Wheel of Destiny, an origina
 l game we made by chance. Ages 10-12. 
URL:https://calendar.lancasterlibraries.org/event/games-luck-tweens-165967
END:VEVENT
END:VCALENDAR
