BEGIN:VCALENDAR
VERSION:2.0
PRODID:-//Library Market//iCal Export//EN
BEGIN:VEVENT
SUMMARY:Tie Dye for Tweens
UID:165972
DTSTAMP:20260420T083200Z
DTSTART:20260609T203000Z
DTEND:20260609T210000Z
LOCATION:Ephrata Public Library, 550 South Reading Rd., Ephrata, PA 17522,
  United States
ROOM: EPH 1/2 Multipurpose Room Kitchen Side
DESCRIPTION:Come make a super cool tie dye t-shirt! We’ll be using a tra
 ditional tie dye kit to make amazing designs! Make sure to wear old clothe
 s, as things will get messy. You must bring your own t-shirt to tie dye. A
 ges 10-12. 
URL:https://calendar.lancasterlibraries.org/event/tie-dye-tweens-165972
END:VEVENT
END:VCALENDAR
