BEGIN:VCALENDAR
VERSION:2.0
PRODID:-//Library Market//iCal Export//EN
BEGIN:VEVENT
SUMMARY:Cooking and Crafts for Tweens
UID:165973
DTSTAMP:20260420T083200Z
DTSTART:20260610T210000Z
DTEND:20260610T220000Z
LOCATION:Ephrata Public Library, 550 South Reading Rd., Ephrata, PA 17522,
  United States
ROOM: EPH 1/2 Multipurpose Room Kitchen Side
DESCRIPTION:Try new foods and develop cooking skills that can be used at h
 ome while making fun and easy recipes. We’ll also be incorporating a fun
  craft. Participants must be able to read and write. Ages 10-12. 
URL:https://calendar.lancasterlibraries.org/event/cooking-and-crafts-tween
 s-165973
END:VEVENT
END:VCALENDAR
