BEGIN:VCALENDAR
VERSION:2.0
PRODID:-//Library Market//iCal Export//EN
BEGIN:VEVENT
SUMMARY:Tween Hangout
UID:165987
DTSTAMP:20260420T083200Z
DTSTART:20260609T170000Z
DTEND:20260609T180000Z
LOCATION:Ephrata Public Library, 550 South Reading Rd., Ephrata, PA 17522,
  United States
ROOM: EPH 1/2 Multipurpose Room Kitchen Side
DESCRIPTION:Come hang out at the Library! We will have board games, crafts
  and coloring available. Feel free to bring things like Pokémon cards, sk
 etching supplies or other small activities to work on as we hang out toget
 her!  Ages 10-12.
URL:https://calendar.lancasterlibraries.org/event/tween-hangout-165987
END:VEVENT
END:VCALENDAR
