BEGIN:VCALENDAR
VERSION:2.0
PRODID:-//Library Market//iCal Export//EN
BEGIN:VEVENT
SUMMARY:LabReady Workshop
UID:166266
DTSTAMP:20260422T021000Z
DTSTART:20260515T040000Z
DTEND:20260515T040000Z
LOCATION:Adamstown Area Library, 110 W. Main St, Adamstown, PA 19501, Unit
 ed States
ROOM: ADM Community Room
DESCRIPTION:Join us on May 15th from 8:30 AM - 4:30 PM for a special STEM 
 workshop presented by LabReady. This lab experience day is an opportunity 
 for rising high school seniors and graduates (or equivalent) to gain free 
 hands-on experience and career exploration. Interested individuals should 
 apply to attend by May 11th, 2026. Applicants apply directly to this link.
  Registration is not held through the library. 
URL:https://calendar.lancasterlibraries.org/event/labready-workshop-166266
END:VEVENT
END:VCALENDAR
