BEGIN:VCALENDAR
VERSION:2.0
PRODID:-//Library Market//iCal Export//EN
BEGIN:VEVENT
SUMMARY:Strategy Board Games for Adults
UID:166527
DTSTAMP:20260422T005300Z
DTSTART:20260602T220000Z
DTEND:20260603T000000Z
LOCATION:Ephrata Public Library, 550 South Reading Rd., Ephrata, PA 17522,
  United States
ROOM: EPH 1/2 Multipurpose Room Projector Side
DESCRIPTION:If you’re looking for more of a challenge than party games, 
 join us for this new program focused on strategy games! We will play vario
 us genres such as war games, city-building and hidden identity games, incl
 uding Catan, The Quacks of Quedlinburg, Smash Up and more! Ages 18+. 
URL:https://calendar.lancasterlibraries.org/event/strategy-board-games-adu
 lts-166527
END:VEVENT
END:VCALENDAR
