BEGIN:VCALENDAR
VERSION:2.0
PRODID:-//Library Market//iCal Export//EN
BEGIN:VEVENT
SUMMARY:Letter Writing for Homeschoolers
UID:166677
DTSTAMP:20260420T083200Z
DTSTART:20260615T170000Z
DTEND:20260615T180000Z
LOCATION:Ephrata Public Library, 550 South Reading Rd., Ephrata, PA 17522,
  United States
ROOM: EPH Conference Room
DESCRIPTION:Practice writing letters with a senior pen-pal from the commun
 ity. Participants will write, send, receive and respond to letters. We wil
 l not be accepting new members for this program until September 2026. Plea
 se reach out if you have any questions. Ages 10-18. 
URL:https://calendar.lancasterlibraries.org/event/letter-writing-homeschoo
 lers-166677
END:VEVENT
END:VCALENDAR
