BEGIN:VCALENDAR
VERSION:2.0
PRODID:-//Library Market//iCal Export//EN
BEGIN:VEVENT
SUMMARY:Video Game Night for Adults
UID:166682
DTSTAMP:20260422T110700Z
DTSTART:20260803T220000Z
DTEND:20260804T000000Z
LOCATION:Ephrata Public Library, 550 South Reading Rd., Ephrata, PA 17522,
  United States
ROOM: EPH 1/2 Multipurpose Room Projector Side
DESCRIPTION:Â Adults like to have fun, too! Play multiplayer games on the 
 Libraryâ€™s Nintendo Switch and make some friends (or enemies)! Ages 18+.Â
  
URL:https://calendar.lancasterlibraries.org/event/video-game-night-adults-
 166682
END:VEVENT
END:VCALENDAR
