BEGIN:VCALENDAR
VERSION:2.0
PRODID:-//Library Market//iCal Export//EN
BEGIN:VEVENT
SUMMARY:Shrink Art for Tweens
UID:166791
DTSTAMP:20260420T083200Z
DTSTART:20260608T170000Z
DTEND:20260608T180000Z
LOCATION:Ephrata Public Library, 550 South Reading Rd., Ephrata, PA 17522,
  United States
ROOM: EPH 1/2 Multipurpose Room Kitchen Side
DESCRIPTION:We’ll be using Shrinky Dinks® to make your own mini creati
 ons. Ages 10-12. 
URL:https://calendar.lancasterlibraries.org/event/shrink-art-tweens-166791
END:VEVENT
END:VCALENDAR
