BEGIN:VCALENDAR
VERSION:2.0
PRODID:-//Library Market//iCal Export//EN
BEGIN:VEVENT
SUMMARY:Baby Book Club
UID:166817
DTSTAMP:20260421T030500Z
DTSTART:20260812T143000Z
DTEND:20260812T151500Z
LOCATION:Ephrata Public Library, 550 South Reading Rd., Ephrata, PA 17522,
  United States
ROOM: EPH 1/2 Multipurpose Room Kitchen Side
DESCRIPTION:Introduce literacy and learning to your little one with a comm
 unity in the Library! This summer we will occasionally make messy art, inc
 luding sensory experiences that are always optional. After reading a few s
 tories we will enjoy lots of peer playtime! Ages 0-2. 
URL:https://calendar.lancasterlibraries.org/event/baby-book-club-166817
END:VEVENT
END:VCALENDAR
