BEGIN:VCALENDAR
VERSION:2.0
PRODID:-//Library Market//iCal Export//EN
BEGIN:VEVENT
SUMMARY:Summer Story Time
UID:166822
DTSTAMP:20260422T010400Z
DTSTART:20260713T143000Z
DTEND:20260713T150000Z
LOCATION:Ephrata Public Library, 550 South Reading Rd., Ephrata, PA 17522,
  United States
ROOM: Summer Story Time
DESCRIPTION:Get out of the house and the heat this Summer by coming to the
  Library! We will read 3-4 books, create an art project and involve sensor
 y each week. Story Time focuses on letter recognition, reading comprehensi
 on and creating friendships in our community! Ages 3-5. 
URL:https://calendar.lancasterlibraries.org/event/preschool-story-hour-166
 822
END:VEVENT
END:VCALENDAR
