BEGIN:VCALENDAR
VERSION:2.0
PRODID:-//Library Market//iCal Export//EN
BEGIN:VEVENT
SUMMARY:Toddler Time
UID:166827
DTSTAMP:20260422T005300Z
DTSTART:20260707T143000Z
DTEND:20260707T150000Z
LOCATION:Ephrata Public Library, 550 South Reading Rd., Ephrata, PA 17522,
  United States
ROOM: EPH Story Room
DESCRIPTION:This summer at each Toddler Time we will discover a new topic 
 and read 2-3 books! Children will get the chance to create an art project 
 and try sensory experiences to further explore! There will be time in each
  session for the children to become comfortable in a classroom, learn thro
 ugh playing and make their first friends! Ages 2-4. 
URL:https://calendar.lancasterlibraries.org/event/toddler-time-166827
END:VEVENT
END:VCALENDAR
