BEGIN:VCALENDAR
VERSION:2.0
PRODID:-//Library Market//iCal Export//EN
BEGIN:VEVENT
SUMMARY:Teen Matinee
UID:167134
DTSTAMP:20260420T081500Z
DTSTART:20260619T190000Z
DTEND:20260619T220000Z
LOCATION:357 Buck Road, Quarryville , PA 17566, United States
ROOM: QVL C.X. Carlson Cultural Room
DESCRIPTION:Ages 13+ or younger with parent permission. Join our teen lea
 dership from 3-4 pm to help prepare a themed snack, set up the room for ou
 r movie, and just enjoy hanging out at the library; then you will want to 
 stay to enjoy the teen-selected movie of the month at 4 pm. Scary things &
 #039;beneath the surface&#039; with Kevin Bacon!
URL:https://calendar.lancasterlibraries.org/event/teen-matinee-167134
END:VEVENT
END:VCALENDAR
