BEGIN:VCALENDAR
VERSION:2.0
PRODID:-//Library Market//iCal Export//EN
BEGIN:VEVENT
SUMMARY:Sean&#039;s Social Club
UID:167815
DTSTAMP:20260422T021000Z
DTSTART:20260515T170000Z
DTEND:20260515T180000Z
LOCATION:Adamstown Area Library, 110 W. Main St, Adamstown, PA 19501, Unit
 ed States
ROOM: ADM Reading Room
DESCRIPTION:Please join us from 1-2 for our meeting of Sean&#039;s Social 
 Club. This club is for adults with differing abilities, as well as their f
 riends, family, caregivers, and guests. We will be having new and exciting
  activities every month.
URL:https://calendar.lancasterlibraries.org/event/seans-social-club-167815
END:VEVENT
END:VCALENDAR
