BEGIN:VCALENDAR
VERSION:2.0
PRODID:-//Library Market//iCal Export//EN
BEGIN:VEVENT
SUMMARY:Introduction to Artificial Intelligence: Understanding AI in Every
 day Life
UID:168272
DTSTAMP:20260422T092600Z
DTSTART:20260603T213000Z
DTEND:20260603T230000Z
LOCATION:Ephrata Public Library, 550 South Reading Rd., Ephrata, PA 17522,
  United States
ROOM: EPH Conference Room
DESCRIPTION:Join us for an overview of Artificial Intelligence (AI).  We 
 hear about it every day but do we really know what it is and how it is use
 d?  This session will provide you with a general understanding of AI and 
 how it impacts our lives on a daily basis. This class is supported by a gr
 ant from the OpenAI Foundation. Ages 18+.  
URL:https://calendar.lancasterlibraries.org/event/introduction-artificial-
 intelligence-understanding-ai-everyday-life-168272
END:VEVENT
END:VCALENDAR
