BEGIN:VCALENDAR
VERSION:2.0
PRODID:-//Library Market//iCal Export//EN
BEGIN:VEVENT
SUMMARY:Google Suite: Sheets (Beginner)
UID:168278
DTSTAMP:20260422T041200Z
DTSTART:20260616T213000Z
DTEND:20260616T230000Z
LOCATION:Ephrata Public Library, 550 South Reading Rd., Ephrata, PA 17522,
  United States
ROOM: EPH Conference Room
DESCRIPTION:Google Sheets is a free spreadsheet program located within Goo
 gle Workspace Suite. We will cover the basic functions of a spreadsheet an
 d be able to create, format and save a spreadsheet.  Participants should 
 already have a Google account. This class is supported by a grant from the
  Members 1st Charitable Foundation. Ages 18+.
URL:https://calendar.lancasterlibraries.org/event/google-suite-sheets-begi
 nner-168278
END:VEVENT
END:VCALENDAR
