BEGIN:VCALENDAR
VERSION:2.0
PRODID:-//Library Market//iCal Export//EN
BEGIN:VEVENT
SUMMARY:Google Maps Made Easy
UID:168287
DTSTAMP:20260422T092600Z
DTSTART:20260610T213000Z
DTEND:20260610T230000Z
LOCATION:Ephrata Public Library, 550 South Reading Rd., Ephrata, PA 17522,
  United States
ROOM: EPH Conference Room
DESCRIPTION:This workshop will provide an overview of Google Maps to help
  you plan your trips. Participants will learn how to search for local dest
 inations, save favorite locations for easy access, and customize driving r
 outes to avoid busy highways and tolls. The class also features a &quot;di
 gital preview&quot; using Street View to help travelers visualize their de
 stination before they even leave home. This class is supported by a grant 
 from the Members 1st Charitable Foundation. Ages 18+.
URL:https://calendar.lancasterlibraries.org/event/copy-google-maps-made-ea
 sy-168287
END:VEVENT
END:VCALENDAR
