BEGIN:VCALENDAR
VERSION:2.0
PRODID:-//Library Market//iCal Export//EN
BEGIN:VEVENT
SUMMARY:Splash Day!
UID:170053
DTSTAMP:20260422T005300Z
DTSTART:20260716T170000Z
DTEND:20260716T180000Z
LOCATION:Ephrata Public Library, 550 South Reading Rd., Ephrata, PA 17522,
  United States
ROOM: EPH Outside
DESCRIPTION:As the days warm up, come to the Library to cool off! Children
  can wear their bathing suits and splash in water tables, get wet in sprin
 klers and enjoy the sensory exploration of water! We’ll encourage childr
 en to test it out in small steps until they are comfortable. Please rememb
 er to apply sunscreen and bring a towel and a change of clothes for your c
 hild. Ages 2-5. 
URL:https://calendar.lancasterlibraries.org/event/splash-day-170053
END:VEVENT
END:VCALENDAR
