BEGIN:VCALENDAR
VERSION:2.0
PRODID:-//Library Market//iCal Export//EN
BEGIN:VEVENT
SUMMARY:Cartooning Made Easy with Ed Klein
UID:170067
DTSTAMP:20260420T083200Z
DTSTART:20260730T143000Z
DTEND:20260730T153000Z
LOCATION:Ephrata Public Library, 550 South Reading Rd., Ephrata, PA 17522,
  United States
ROOM: EPH Multipurpose Room
DESCRIPTION:Participants will be instructed on the basics of cartooning so
  they can caricature the world around them and create original cartoons as
  well as draw their favorite cartoon characters. Ed Klein has drawn for Th
 e Walt Disney Company, Warner Bros. Studios, Don Bluth Animation Studios, 
 Hanna Barbera Studios, Hyperion Studios, Filmation Studios, Ross Bagdasari
 an Productions, Calabash Animation Studios, K.C.M.P. Productions and numer
 ous independent and commercial studios in New York and throughout the coun
 try. Ages 8-12.
URL:https://calendar.lancasterlibraries.org/event/cartooning-made-easy-ed-
 klein-170067
END:VEVENT
END:VCALENDAR
