BEGIN:VCALENDAR
VERSION:2.0
PRODID:-//Library Market//iCal Export//EN
BEGIN:VEVENT
SUMMARY:Dinosaur Playtime
UID:170929
DTSTAMP:20260422T041200Z
DTSTART:20260618T133000Z
DTEND:20260618T140000Z
LOCATION:651 Kissel Hill Road, Lititz, PA 17543, United States
ROOM: LTZ Community Room
DESCRIPTION:Explore dinosaurs through interactive play, songs and books wi
 th Amy Moyer. A storytime for children ages 1-2 with a caregiver.
URL:https://calendar.lancasterlibraries.org/event/master-gardener-pollinat
 or-program-170929
END:VEVENT
END:VCALENDAR
