BEGIN:VCALENDAR
VERSION:2.0
PRODID:-//Library Market//iCal Export//EN
BEGIN:VEVENT
SUMMARY:Master Gardener Pollinator Program
UID:170930
DTSTAMP:20260422T041200Z
DTSTART:20260619T140000Z
DTEND:20260619T143000Z
LOCATION:651 Kissel Hill Road, Lititz, PA 17543, United States
ROOM: LTZ Community Room
DESCRIPTION:Listen to the story, Home is Calling: The Journey of the Monar
 ch Butterfly by Katherine Pryor, learn about pollinators and make a craft
 . (Ages 3 - 8)
URL:https://calendar.lancasterlibraries.org/event/master-gardener-pollinat
 or-program-170930
END:VEVENT
END:VCALENDAR
