BEGIN:VCALENDAR
VERSION:2.0
PRODID:-//Library Market//iCal Export//EN
BEGIN:VEVENT
SUMMARY:Lancaster Science Factory- Forces at Play STEM Program
UID:171576
DTSTAMP:20260422T092600Z
DTSTART:20260713T143000Z
DTEND:20260713T153000Z
LOCATION:143 Precision Avenue, Strasburg, PA 17579, United States
ROOM: Lancaster Science Factory- Forces at Play STEM Program
DESCRIPTION:Lancaster Science Factory Presents- Forces at PlayExperience p
 hysics you can feel! Why does a balloon rocket zoom forward when the air r
 ushes out the back? In this action-packed program, students explore Newton
 ’s Third Law of Motion: for every action, there is an equal and opposite
  reaction, by building and testing their own balloon-powered rocket system
 s.AGES 8-13 
URL:https://calendar.lancasterlibraries.org/event/lancaster-science-factor
 y-forces-play-stem-program-171576
END:VEVENT
END:VCALENDAR
