BEGIN:VCALENDAR
VERSION:2.0
PRODID:-//Library Market//iCal Export//EN
BEGIN:VEVENT
SUMMARY:Raven Ridge Wildlife Center Presents Pennsylvania Wildlife
UID:171599
DTSTAMP:20260420T083200Z
DTSTART:20260717T143000Z
DTEND:20260717T153000Z
LOCATION:143 Precision Avenue, Strasburg, PA 17579, United States
ROOM: Raven Ridge Wildlife Center Presents Pennsylvania Wildlife
DESCRIPTION:Raven Ridge Wildlife Center Presents: Pennsylvania WildlifePen
 nsylvania is full of beautiful mountains, valleys, and rivers filled with 
 beautiful creatures. This program will serve as an introduction to wildlif
 e native to Pennsylvania and the Mid-Atlantic region, featuring animal amb
 assadors from a variety of species and habitats.Ages 6+
URL:https://calendar.lancasterlibraries.org/event/raven-ridge-wildlife-cen
 ter-presents-pennsylvania-wildlife-171599
END:VEVENT
END:VCALENDAR
