BEGIN:VCALENDAR
VERSION:2.0
PRODID:-//Library Market//iCal Export//EN
BEGIN:VEVENT
SUMMARY:Birds &amp; Reptiles: Living Dinosaurs
UID:171798
DTSTAMP:20260420T055000Z
DTSTART:20260622T140000Z
DTEND:20260622T150000Z
LOCATION:547 N Penryn Rd, Manheim, PA 17545, United States
ROOM: MAN Kreider Cultural Center
DESCRIPTION:Dinosaurs may be a thing of the past, but there are still livi
 ng dinos all around us! Learn about the ancient “terrible lizards” and
  their modern-day relatives: birds and reptiles. We will bring bird and re
 ptile specimens for participants to feel and if time and space allow, we w
 ill go outside to look for living, tweeting dinos.
URL:https://calendar.lancasterlibraries.org/event/birds-reptiles-living-di
 nosaurs-171798
END:VEVENT
END:VCALENDAR
