BEGIN:VCALENDAR
VERSION:2.0
PRODID:-//Library Market//iCal Export//EN
BEGIN:VEVENT
SUMMARY:Ed Klein - Cartooning Made Easy
UID:171800
DTSTAMP:20260420T055000Z
DTSTART:20260623T143000Z
DTEND:20260623T153000Z
LOCATION:547 N Penryn Rd, Manheim, PA 17545, United States
ROOM: MAN Kreider Cultural Center
DESCRIPTION:Students will be instructed on the basics of cartooning so the
 y can caricature the world around them and create original cartoons as wel
 l as draw their favorite cartoon characters.Ed has drawn for The Walt Disn
 ey Company, Warner Bros. Studios, Don Bluth Animation Studios, Hanna Barbe
 ra Studios, Hyperion Studios, Filmation Studios, Ross Bagdasarian Producti
 ons, Calabash Animation Studios, K.C.M.P. Productions, and numerous indepe
 ndent and commercial studios in New York and throughout the country!It is 
 an Honor to have him at our library! *Parents there will be seating in th
 e back for you to stay and watch the sketches unfold! 
URL:https://calendar.lancasterlibraries.org/event/ed-klein-cartooning-made
 -easy-171800
END:VEVENT
END:VCALENDAR
