BEGIN:VCALENDAR
VERSION:2.0
PRODID:-//Library Market//iCal Export//EN
BEGIN:VEVENT
SUMMARY:Family Story Time w/Miss Alyssa
UID:172111
DTSTAMP:20260419T215400Z
DTSTART:20260513T143000Z
DTEND:20260513T151500Z
LOCATION:1184 Anderson Ferry Road, Mount Joy, PA 17552, United States
ROOM: MJY Engle Room Large
DESCRIPTION:Join Miss Alyssa for a fun story time of songs, stories, and a
  themed craft! May 6 - MomsMay 13 - FlowersMay 20 - Bees 
URL:https://calendar.lancasterlibraries.org/event/family-story-time-wmiss-
 alyssa-172111
END:VEVENT
END:VCALENDAR
