BEGIN:VCALENDAR
VERSION:2.0
PRODID:-//Library Market//iCal Export//EN
BEGIN:VEVENT
SUMMARY:History Alive!
UID:172115
DTSTAMP:20260420T053600Z
DTSTART:20260505T183000Z
DTEND:20260505T191500Z
LOCATION:1184 Anderson Ferry Road, Mount Joy, PA 17552, United States
ROOM: History Alive!
DESCRIPTION:Children are invited to join us as we make history come alive 
 through story, roleplay, and creative projects. This program will help kid
 s understand the human side of history while encouraging curiosity and cri
 tical thinking. This program may be perfect for homeschool families! This 
 month, we will learn about the Apollo 11 moon landing. 
URL:https://calendar.lancasterlibraries.org/event/history-alive-172115
END:VEVENT
END:VCALENDAR
