BEGIN:VCALENDAR
VERSION:2.0
PRODID:-//Library Market//iCal Export//EN
BEGIN:VEVENT
SUMMARY:Snuggle-Up Story Time
UID:172116
DTSTAMP:20260419T215400Z
DTSTART:20260514T220000Z
DTEND:20260514T224500Z
LOCATION:1184 Anderson Ferry Road, Mount Joy, PA 17552, United States
ROOM: Snuggle-Up Story Time
DESCRIPTION:Get ready to snuggle up and get cozy! Families are invited to 
 an evening storytime, specialized in getting calm and comfy. Participants 
 may even wear their pajamas and bring in a blankie and stuffie to be as sn
 ug as possible!  
URL:https://calendar.lancasterlibraries.org/event/snuggle-story-time-17211
 6
END:VEVENT
END:VCALENDAR
