BEGIN:VCALENDAR
VERSION:2.0
PRODID:-//Library Market//iCal Export//EN
BEGIN:VEVENT
SUMMARY:Wiggle &amp; Giggle Story Time
UID:172117
DTSTAMP:20260419T215400Z
DTSTART:20260511T143000Z
DTEND:20260511T150000Z
LOCATION:1184 Anderson Ferry Road, Mount Joy, PA 17552, United States
ROOM: MJY Engle Room Large
DESCRIPTION:This story time is especially for the very young. This 20-minu
 te program encourages interacting with baby using songs, finger play, and 
 age-appropriate props, like shakers, scarves, and instruments. Miss Alyssa
  will lead this class. 
URL:https://calendar.lancasterlibraries.org/event/wiggle-giggle-story-time
 -172117
END:VEVENT
END:VCALENDAR
